BEGIN:VCALENDAR
VERSION:2.0
PRODID:-//Fédération des Arts Martiaux Traditionnels Vietnamiens - ECPv6.15.20//NONSGML v1.0//EN
CALSCALE:GREGORIAN
METHOD:PUBLISH
X-WR-CALNAME:Fédération des Arts Martiaux Traditionnels Vietnamiens
X-ORIGINAL-URL:https://www.famtv.fr
X-WR-CALDESC:Évènements pour Fédération des Arts Martiaux Traditionnels Vietnamiens
REFRESH-INTERVAL;VALUE=DURATION:PT1H
X-Robots-Tag:noindex
X-PUBLISHED-TTL:PT1H
BEGIN:VTIMEZONE
TZID:Europe/Paris
BEGIN:DAYLIGHT
TZOFFSETFROM:+0100
TZOFFSETTO:+0200
TZNAME:CEST
DTSTART:20220327T010000
END:DAYLIGHT
BEGIN:STANDARD
TZOFFSETFROM:+0200
TZOFFSETTO:+0100
TZNAME:CET
DTSTART:20221030T010000
END:STANDARD
BEGIN:DAYLIGHT
TZOFFSETFROM:+0100
TZOFFSETTO:+0200
TZNAME:CEST
DTSTART:20230326T010000
END:DAYLIGHT
BEGIN:STANDARD
TZOFFSETFROM:+0200
TZOFFSETTO:+0100
TZNAME:CET
DTSTART:20231029T010000
END:STANDARD
BEGIN:DAYLIGHT
TZOFFSETFROM:+0100
TZOFFSETTO:+0200
TZNAME:CEST
DTSTART:20240331T010000
END:DAYLIGHT
BEGIN:STANDARD
TZOFFSETFROM:+0200
TZOFFSETTO:+0100
TZNAME:CET
DTSTART:20241027T010000
END:STANDARD
END:VTIMEZONE
BEGIN:VEVENT
DTSTART;TZID=Europe/Paris:20231104T000000
DTEND;TZID=Europe/Paris:20231106T000000
DTSTAMP:20260423T074728
CREATED:20231118T173500Z
LAST-MODIFIED:20231118T175156Z
UID:1422-1699056000-1699228800@www.famtv.fr
SUMMARY:Stage international de la danse de la licorne et du dragon
DESCRIPTION:VVNVVD\, IDF
URL:https://www.famtv.fr/event/stage-international-de-la-danse-de-la-licorne-et-du-dragon/
END:VEVENT
BEGIN:VEVENT
DTSTART;TZID=Europe/Paris:20231110T230000
DTEND;TZID=Europe/Paris:20231111T225900
DTSTAMP:20260423T074728
CREATED:20231118T173415Z
LAST-MODIFIED:20231118T173415Z
UID:1410-1699657200-1699743540@www.famtv.fr
SUMMARY:Stage Technique international
DESCRIPTION:SLQT\, France
URL:https://www.famtv.fr/event/stage-technique-international/
END:VEVENT
BEGIN:VEVENT
DTSTART;TZID=Europe/Paris:20231110T230000
DTEND;TZID=Europe/Paris:20231111T225900
DTSTAMP:20260423T074728
CREATED:20231118T173515Z
LAST-MODIFIED:20231118T173515Z
UID:1428-1699657200-1699743540@www.famtv.fr
SUMMARY:2ème réunion en visioconférence
DESCRIPTION:Bureau & Comité Directeur
URL:https://www.famtv.fr/event/2eme-reunion-en-visioconference/
END:VEVENT
BEGIN:VEVENT
DTSTART;VALUE=DATE:20231117
DTEND;VALUE=DATE:20231120
DTSTAMP:20260423T074728
CREATED:20231118T173430Z
LAST-MODIFIED:20231118T193641Z
UID:1411-1700179200-1700438399@www.famtv.fr
SUMMARY:Stage tous niveaux
DESCRIPTION:ML\, INGRANDES
URL:https://www.famtv.fr/event/stage-tous-niveaux/
END:VEVENT
BEGIN:VEVENT
DTSTART;VALUE=DATE:20231124
DTEND;VALUE=DATE:20231127
DTSTAMP:20260423T074728
CREATED:20231118T173445Z
LAST-MODIFIED:20231118T193344Z
UID:1419-1700784000-1701043199@www.famtv.fr
SUMMARY:Stage tous niveaux
DESCRIPTION:VVNVVD\, Normandie-Bretagne
URL:https://www.famtv.fr/event/stage-tous-niveaux-4/
END:VEVENT
END:VCALENDAR