BEGIN:VCALENDAR
VERSION:2.0
PRODID:-//Fédération des Arts Martiaux Traditionnels Vietnamiens - ECPv6.15.20//NONSGML v1.0//EN
CALSCALE:GREGORIAN
METHOD:PUBLISH
X-WR-CALNAME:Fédération des Arts Martiaux Traditionnels Vietnamiens
X-ORIGINAL-URL:https://www.famtv.fr
X-WR-CALDESC:Évènements pour Fédération des Arts Martiaux Traditionnels Vietnamiens
REFRESH-INTERVAL;VALUE=DURATION:PT1H
X-Robots-Tag:noindex
X-PUBLISHED-TTL:PT1H
BEGIN:VTIMEZONE
TZID:Europe/Paris
BEGIN:DAYLIGHT
TZOFFSETFROM:+0100
TZOFFSETTO:+0200
TZNAME:CEST
DTSTART:20240331T010000
END:DAYLIGHT
BEGIN:STANDARD
TZOFFSETFROM:+0200
TZOFFSETTO:+0100
TZNAME:CET
DTSTART:20241027T010000
END:STANDARD
BEGIN:DAYLIGHT
TZOFFSETFROM:+0100
TZOFFSETTO:+0200
TZNAME:CEST
DTSTART:20250330T010000
END:DAYLIGHT
BEGIN:STANDARD
TZOFFSETFROM:+0200
TZOFFSETTO:+0100
TZNAME:CET
DTSTART:20251026T010000
END:STANDARD
BEGIN:DAYLIGHT
TZOFFSETFROM:+0100
TZOFFSETTO:+0200
TZNAME:CEST
DTSTART:20260329T010000
END:DAYLIGHT
BEGIN:STANDARD
TZOFFSETFROM:+0200
TZOFFSETTO:+0100
TZNAME:CET
DTSTART:20261025T010000
END:STANDARD
END:VTIMEZONE
BEGIN:VEVENT
DTSTART;VALUE=DATE:20251206
DTEND;VALUE=DATE:20251208
DTSTAMP:20260421T141831
CREATED:20250626T202624Z
LAST-MODIFIED:20251104T125024Z
UID:1956-1764979200-1765151999@www.famtv.fr
SUMMARY:Stage fédéral
DESCRIPTION:La FAMTV organise son Stage National les samedi 6 et dimanche 7 décembre 2025 au gymnase de Jatteau à Moissy-Cramayel (77550). \n\n\n\nRéservation :  famtv.france@gmail.com\nProgramme :\n\nSamedi : Ateliers tournants (self-défense\, méthode de combat\, application technique\, Quy Dinh) en groupes de niveaux.\nDimanche : Quy Dinh en groupe de niveaux et atelier « Danse de la Licorne ».\n\n\nParticipation : Ouvert aux enfants à partir de 8 ans.\nTarifs du Stage :\n\nEnfants (8-13 ans) : 5€\nAdultes (à partir de 14 ans) : 10€\n\n\nSoirée : Repas commun le samedi soir à la Pagode de Moissy-Cramayel (243 rue des Marronniers). Coût entre 20 et 25€ (apéritif offert\, boissons non comprises).\nInscription soirée : Date limite impérative le 22 novembre 2025.\n\n\n\n 
URL:https://www.famtv.fr/event/coupe-federale/
LOCATION:Gymnase de Jatteau\, 140 avenue de Rosso\, Moissy-Cramayel\, 77550\, France
END:VEVENT
END:VCALENDAR