BEGIN:VCALENDAR
VERSION:2.0
PRODID:-//Fédération des Arts Martiaux Traditionnels Vietnamiens - ECPv6.15.20//NONSGML v1.0//EN
CALSCALE:GREGORIAN
METHOD:PUBLISH
X-WR-CALNAME:Fédération des Arts Martiaux Traditionnels Vietnamiens
X-ORIGINAL-URL:https://www.famtv.fr
X-WR-CALDESC:Évènements pour Fédération des Arts Martiaux Traditionnels Vietnamiens
REFRESH-INTERVAL;VALUE=DURATION:PT1H
X-Robots-Tag:noindex
X-PUBLISHED-TTL:PT1H
BEGIN:VTIMEZONE
TZID:Europe/Paris
BEGIN:DAYLIGHT
TZOFFSETFROM:+0100
TZOFFSETTO:+0200
TZNAME:CEST
DTSTART:20230326T010000
END:DAYLIGHT
BEGIN:STANDARD
TZOFFSETFROM:+0200
TZOFFSETTO:+0100
TZNAME:CET
DTSTART:20231029T010000
END:STANDARD
BEGIN:DAYLIGHT
TZOFFSETFROM:+0100
TZOFFSETTO:+0200
TZNAME:CEST
DTSTART:20240331T010000
END:DAYLIGHT
BEGIN:STANDARD
TZOFFSETFROM:+0200
TZOFFSETTO:+0100
TZNAME:CET
DTSTART:20241027T010000
END:STANDARD
BEGIN:DAYLIGHT
TZOFFSETFROM:+0100
TZOFFSETTO:+0200
TZNAME:CEST
DTSTART:20250330T010000
END:DAYLIGHT
BEGIN:STANDARD
TZOFFSETFROM:+0200
TZOFFSETTO:+0100
TZNAME:CET
DTSTART:20251026T010000
END:STANDARD
END:VTIMEZONE
BEGIN:VEVENT
DTSTART;TZID=Europe/Paris:20240126T230000
DTEND;TZID=Europe/Paris:20240128T225900
DTSTAMP:20260423T060141
CREATED:20231118T173412Z
LAST-MODIFIED:20231118T173412Z
UID:1403-1706310000-1706482740@www.famtv.fr
SUMMARY:Coupe IDF Techniques & combat
DESCRIPTION:VVNVVD\, Île-de-France
URL:https://www.famtv.fr/event/coupe-idf-techniques-combat/
END:VEVENT
END:VCALENDAR